BEGIN:VCALENDAR
VERSION:2.0
PRODID:-//Richardson Humane Society - ECPv6.15.11//NONSGML v1.0//EN
CALSCALE:GREGORIAN
METHOD:PUBLISH
X-ORIGINAL-URL:https://www.richardsonhumanesociety.org
X-WR-CALDESC:Events for Richardson Humane Society
REFRESH-INTERVAL;VALUE=DURATION:PT1H
X-Robots-Tag:noindex
X-PUBLISHED-TTL:PT1H
BEGIN:VTIMEZONE
TZID:UTC
BEGIN:STANDARD
TZOFFSETFROM:+0000
TZOFFSETTO:+0000
TZNAME:UTC
DTSTART:20200101T000000
END:STANDARD
END:VTIMEZONE
BEGIN:VEVENT
DTSTART;TZID=UTC:20211120T130000
DTEND;TZID=UTC:20211120T150000
DTSTAMP:20260420T164005
CREATED:20211012T064616Z
LAST-MODIFIED:20211012T064616Z
UID:9860-1637413200-1637420400@www.richardsonhumanesociety.org
SUMMARY:Meet the Pets@Petco Plano - 801 W 15th St\, Plano\, TX 75075
DESCRIPTION:Come meet our adoptable pets at Half Price Books located in Richardson Heights Village\, 100 S Central Expy\, Richardson\, TX 75080!\nCheck our Facebook page on Friday evenings for the list of pets expected at this event. \nPlease become familiar with our Adoption Process and you may fill out an application prior here.
URL:https://www.richardsonhumanesociety.org/event/meet-the-petspetco-plano-801-w-15th-st-plano-tx-75075-2/
LOCATION:TX
END:VEVENT
END:VCALENDAR