BEGIN:VCALENDAR
VERSION:2.0
PRODID:-//Richardson Humane Society - ECPv6.15.11//NONSGML v1.0//EN
CALSCALE:GREGORIAN
METHOD:PUBLISH
X-WR-CALNAME:Richardson Humane Society
X-ORIGINAL-URL:https://www.richardsonhumanesociety.org
X-WR-CALDESC:Events for Richardson Humane Society
REFRESH-INTERVAL;VALUE=DURATION:PT1H
X-Robots-Tag:noindex
X-PUBLISHED-TTL:PT1H
BEGIN:VTIMEZONE
TZID:UTC
BEGIN:STANDARD
TZOFFSETFROM:+0000
TZOFFSETTO:+0000
TZNAME:UTC
DTSTART:20210101T000000
END:STANDARD
END:VTIMEZONE
BEGIN:VEVENT
DTSTART;TZID=UTC:20220409T110000
DTEND;TZID=UTC:20220409T160000
DTSTAMP:20260420T092547
CREATED:20220404T050127Z
LAST-MODIFIED:20220404T050127Z
UID:10040-1649502000-1649520000@www.richardsonhumanesociety.org
SUMMARY:Pupillonia Personalization Party!!!
DESCRIPTION:
URL:https://www.richardsonhumanesociety.org/event/pupillonia-personalization-party/
LOCATION:Pampillonia\, 640 N. Coit Road\, Richardson\, TX\, 75081\, United States
END:VEVENT
END:VCALENDAR