BEGIN:VCALENDAR
VERSION:2.0
PRODID:-//Richardson Humane Society - ECPv6.15.11//NONSGML v1.0//EN
CALSCALE:GREGORIAN
METHOD:PUBLISH
X-ORIGINAL-URL:https://www.richardsonhumanesociety.org
X-WR-CALDESC:Events for Richardson Humane Society
REFRESH-INTERVAL;VALUE=DURATION:PT1H
X-Robots-Tag:noindex
X-PUBLISHED-TTL:PT1H
BEGIN:VTIMEZONE
TZID:UTC
BEGIN:STANDARD
TZOFFSETFROM:+0000
TZOFFSETTO:+0000
TZNAME:UTC
DTSTART:20210101T000000
END:STANDARD
END:VTIMEZONE
BEGIN:VEVENT
DTSTART;TZID=UTC:20220514T130000
DTEND;TZID=UTC:20220514T150000
DTSTAMP:20260420T062436
CREATED:20211012T064534Z
LAST-MODIFIED:20211012T064534Z
UID:9855-1652533200-1652540400@www.richardsonhumanesociety.org
SUMMARY:Meet the Pets@Petco Dallas (5301 Belt Line Rd #106 Dallas\, TX 75254)
DESCRIPTION:Come meet our adoptable pets at Petco Dallas located at 5301 Belt Line Rd #106 Dallas\, TX 75254!\nCheck our Facebook page on Friday evenings for the list of pets expected at this event. \nPlease become familiar with our Adoption Process and you may fill out an application prior here.
URL:https://www.richardsonhumanesociety.org/event/meet-the-petspetco-dallas-5301-belt-line-rd-106-dallas-tx-75254-18/
LOCATION:Petco – Dallas\, 5301 Belt Line Rd #106\, Dallas\, TX\, 75254
END:VEVENT
BEGIN:VEVENT
DTSTART;TZID=UTC:20220521T130000
DTEND;TZID=UTC:20220521T150000
DTSTAMP:20260420T062436
CREATED:20211012T064632Z
LAST-MODIFIED:20211224T233246Z
UID:9866-1653138000-1653145200@www.richardsonhumanesociety.org
SUMMARY:Meet the Pets@Petco Plano - 801 W 15th St\, Plano\, TX 75075
DESCRIPTION:Come meet our adoptable pets at Petco\, 801 W 15th St\, Plano\, TX 75075!\nCheck our Facebook page on Friday evenings for the list of pets expected at this event. \nPlease become familiar with our Adoption Process and you may fill out an application prior on our website.
URL:https://www.richardsonhumanesociety.org/event/meet-the-petspetco-plano-801-w-15th-st-plano-tx-75075-8/
LOCATION:TX
END:VEVENT
BEGIN:VEVENT
DTSTART;TZID=UTC:20220528T130000
DTEND;TZID=UTC:20220528T150000
DTSTAMP:20260420T062436
CREATED:20211012T064123Z
LAST-MODIFIED:20211224T233603Z
UID:9828-1653742800-1653750000@www.richardsonhumanesociety.org
SUMMARY:Meet the Pets@ Pet Supplies Plus (200 N Coit Rd\, Richardson\, TX 75080
DESCRIPTION:Come meet our adoptable pets at Pet Supplies Plus Richardson located at 200 N Coit Rd Suite 330\, Richardson\, TX 75080!\nCheck our Facebook page on Friday evenings for the list of pets expected at this event. \nPlease become familiar with our Adoption Process and you may fill out an application prior on our website.
URL:https://www.richardsonhumanesociety.org/event/meet-the-pets-pet-supplies-plus-200-n-coit-rd-richardson-tx-75080-18/
LOCATION:TX
END:VEVENT
END:VCALENDAR