BEGIN:VCALENDAR
VERSION:2.0
PRODID:-//Richardson Humane Society - ECPv6.15.11//NONSGML v1.0//EN
CALSCALE:GREGORIAN
METHOD:PUBLISH
X-WR-CALNAME:Richardson Humane Society
X-ORIGINAL-URL:https://www.richardsonhumanesociety.org
X-WR-CALDESC:Events for Richardson Humane Society
REFRESH-INTERVAL;VALUE=DURATION:PT1H
X-Robots-Tag:noindex
X-PUBLISHED-TTL:PT1H
BEGIN:VTIMEZONE
TZID:UTC
BEGIN:STANDARD
TZOFFSETFROM:+0000
TZOFFSETTO:+0000
TZNAME:UTC
DTSTART:20210101T000000
END:STANDARD
END:VTIMEZONE
BEGIN:VEVENT
DTSTART;TZID=UTC:20220604T130000
DTEND;TZID=UTC:20220604T150000
DTSTAMP:20260420T050319
CREATED:20211012T064504Z
LAST-MODIFIED:20211012T064504Z
UID:9845-1654347600-1654354800@www.richardsonhumanesociety.org
SUMMARY:Meet the Pets@Petco Firewheel (3055 N President George Bush Hwy\, Garland\, TX)
DESCRIPTION:Come meet our adoptable pets at Petco Firewheel located at 3055 N President George Bush Hwy\, Garland\, TX!\nCheck our Facebook page on Friday evenings for the list of pets expected at this event. \nPlease become familiar with our Adoption Process and you may fill out an application prior here.
URL:https://www.richardsonhumanesociety.org/event/meet-the-petspetco-firewheel-3055-n-president-george-bush-hwy-garland-tx-21/
LOCATION:TX
END:VEVENT
BEGIN:VEVENT
DTSTART;TZID=UTC:20220611T130000
DTEND;TZID=UTC:20220611T150000
DTSTAMP:20260420T050319
CREATED:20211012T064534Z
LAST-MODIFIED:20211224T233547Z
UID:9856-1654952400-1654959600@www.richardsonhumanesociety.org
SUMMARY:Meet the Pets@Petco Dallas (5301 Belt Line Rd #106 Dallas\, TX 75254)
DESCRIPTION:Come meet our adoptable pets at Petco Dallas located at 5301 Belt Line Rd #106 Dallas\, TX 75254!\nCheck our Facebook page on Friday evenings for the list of pets expected at this event. \nPlease become familiar with our Adoption Process and you may fill out an application prior on our website.
URL:https://www.richardsonhumanesociety.org/event/meet-the-petspetco-dallas-5301-belt-line-rd-106-dallas-tx-75254-19/
LOCATION:Petco – Dallas\, 5301 Belt Line Rd #106\, Dallas\, TX\, 75254
END:VEVENT
BEGIN:VEVENT
DTSTART;TZID=UTC:20220618T130000
DTEND;TZID=UTC:20220618T150000
DTSTAMP:20260420T050319
CREATED:20211012T064632Z
LAST-MODIFIED:20211224T233229Z
UID:9867-1655557200-1655564400@www.richardsonhumanesociety.org
SUMMARY:Meet the Pets@Petco Plano - 801 W 15th St\, Plano\, TX 75075
DESCRIPTION:Come meet our adoptable pets at Petco\, 801 W 15th St\, Plano\, TX 75075!\nCheck our Facebook page on Friday evenings for the list of pets expected at this event. \nPlease become familiar with our Adoption Process and you may fill out an application prior on our website.
URL:https://www.richardsonhumanesociety.org/event/meet-the-petspetco-plano-801-w-15th-st-plano-tx-75075-9/
LOCATION:TX
END:VEVENT
BEGIN:VEVENT
DTSTART;TZID=UTC:20220625T130000
DTEND;TZID=UTC:20220625T150000
DTSTAMP:20260420T050319
CREATED:20211012T064123Z
LAST-MODIFIED:20211012T064123Z
UID:9829-1656162000-1656169200@www.richardsonhumanesociety.org
SUMMARY:Meet the Pets@ Pet Supplies Plus (200 N Coit Rd\, Richardson\, TX 75080
DESCRIPTION:Come meet our adoptable pets at Pet Supplies Plus Richardson located at 200 N Coit Rd Suite 330\, Richardson\, TX 75080!\nCheck our Facebook page on Friday evenings for the list of pets expected at this event. \nPlease become familiar with our Adoption Process and you may fill out an application prior here.
URL:https://www.richardsonhumanesociety.org/event/meet-the-pets-pet-supplies-plus-200-n-coit-rd-richardson-tx-75080-19/
LOCATION:TX
END:VEVENT
END:VCALENDAR